BEGIN:VCALENDAR
VERSION:2.0
PRODID:-//PLUMA GALLERY - ECPv6.15.20//NONSGML v1.0//EN
CALSCALE:GREGORIAN
METHOD:PUBLISH
X-ORIGINAL-URL:https://plumagallery.com
X-WR-CALDESC:Events for PLUMA GALLERY
REFRESH-INTERVAL;VALUE=DURATION:PT1H
X-Robots-Tag:noindex
X-PUBLISHED-TTL:PT1H
BEGIN:VTIMEZONE
TZID:America/Kentucky/Louisville
BEGIN:DAYLIGHT
TZOFFSETFROM:-0500
TZOFFSETTO:-0400
TZNAME:EDT
DTSTART:20250309T070000
END:DAYLIGHT
BEGIN:STANDARD
TZOFFSETFROM:-0400
TZOFFSETTO:-0500
TZNAME:EST
DTSTART:20251102T060000
END:STANDARD
BEGIN:DAYLIGHT
TZOFFSETFROM:-0500
TZOFFSETTO:-0400
TZNAME:EDT
DTSTART:20260308T070000
END:DAYLIGHT
BEGIN:STANDARD
TZOFFSETFROM:-0400
TZOFFSETTO:-0500
TZNAME:EST
DTSTART:20261101T060000
END:STANDARD
BEGIN:DAYLIGHT
TZOFFSETFROM:-0500
TZOFFSETTO:-0400
TZNAME:EDT
DTSTART:20270314T070000
END:DAYLIGHT
BEGIN:STANDARD
TZOFFSETFROM:-0400
TZOFFSETTO:-0500
TZNAME:EST
DTSTART:20271107T060000
END:STANDARD
END:VTIMEZONE
BEGIN:VEVENT
DTSTART;TZID=America/Kentucky/Louisville:20260425T100000
DTEND;TZID=America/Kentucky/Louisville:20260426T180000
DTSTAMP:20260423T103736
CREATED:20260406T223313Z
LAST-MODIFIED:20260406T225922Z
UID:459-1777111200-1777226400@plumagallery.com
SUMMARY:42nd Annual Main Street Festival | 2026
DESCRIPTION:The Southeast’s top Spring festival attracts 120\,000+ visitors annually to enjoy eclectic arts and crafts vendors\, superb entertainment\, great food and drink\, and fun for the family right in the heart of historic downtown Franklin. \n\n\n\n\n\n\n\n\n\n \n\n\n\n\n\n 
URL:https://plumagallery.com/event/main-street-art-festival/
LOCATION:Main Street | Downtown Franklin\, Downtown Franklin\, Franklin\, TN\, United States
ATTACH;FMTTYPE=image/webp:https://plumagallery.com/wp-content/uploads/2026/04/Untitled-design-283.webp
END:VEVENT
END:VCALENDAR